BEGIN:VCALENDAR
VERSION:2.0
PRODID:-//McCabe United Methodist Church - ECPv6.1.3//NONSGML v1.0//EN
CALSCALE:GREGORIAN
METHOD:PUBLISH
X-WR-CALNAME:McCabe United Methodist Church
X-ORIGINAL-URL:https://www.mccabechurch.com
X-WR-CALDESC:Events for McCabe United Methodist Church
REFRESH-INTERVAL;VALUE=DURATION:PT1H
X-Robots-Tag:noindex
X-PUBLISHED-TTL:PT1H
BEGIN:VTIMEZONE
TZID:America/Chicago
BEGIN:DAYLIGHT
TZOFFSETFROM:-0600
TZOFFSETTO:-0500
TZNAME:CDT
DTSTART:20230312T080000
END:DAYLIGHT
BEGIN:STANDARD
TZOFFSETFROM:-0500
TZOFFSETTO:-0600
TZNAME:CST
DTSTART:20231105T070000
END:STANDARD
END:VTIMEZONE
BEGIN:VEVENT
DTSTART;TZID=America/Chicago:20231206T090000
DTEND;TZID=America/Chicago:20231206T100000
DTSTAMP:20260419T072156
CREATED:20230329T175436Z
LAST-MODIFIED:20230329T175436Z
UID:37684-1701853200-1701856800@www.mccabechurch.com
SUMMARY:Bible Study
DESCRIPTION:Bible Studay meets online.
URL:https://www.mccabechurch.com/event/bible-study-168/
END:VEVENT
BEGIN:VEVENT
DTSTART;TZID=America/Chicago:20231206T090000
DTEND;TZID=America/Chicago:20231206T100000
DTSTAMP:20260419T072156
CREATED:20230908T193412Z
LAST-MODIFIED:20230908T193412Z
UID:56712-1701853200-1701856800@www.mccabechurch.com
SUMMARY:Online Text Study
DESCRIPTION:Online text study
URL:https://www.mccabechurch.com/event/online-text-study-12/
END:VEVENT
BEGIN:VEVENT
DTSTART;TZID=America/Chicago:20231206T100000
DTEND;TZID=America/Chicago:20231206T110000
DTSTAMP:20260419T072156
CREATED:20230908T193412Z
LAST-MODIFIED:20230908T193412Z
UID:56713-1701856800-1701860400@www.mccabechurch.com
SUMMARY:Faithfully Fit
DESCRIPTION:Faithfully Fit is an exercise class for all ages.
URL:https://www.mccabechurch.com/event/faithfully-fit-64/
LOCATION:Main Building: The Great Hall
END:VEVENT
BEGIN:VEVENT
DTSTART;TZID=America/Chicago:20231206T161500
DTEND;TZID=America/Chicago:20231206T171500
DTSTAMP:20260419T072156
CREATED:20230908T193413Z
LAST-MODIFIED:20230908T193413Z
UID:56714-1701879300-1701882900@www.mccabechurch.com
SUMMARY:Youth Handbell Practice
DESCRIPTION:
URL:https://www.mccabechurch.com/event/youth-handbell-practice-13/
LOCATION:Main Building: Bell Room
END:VEVENT
BEGIN:VEVENT
DTSTART;TZID=America/Chicago:20231206T171500
DTEND;TZID=America/Chicago:20231206T175500
DTSTAMP:20260419T072156
CREATED:20230908T193413Z
LAST-MODIFIED:20230908T193413Z
UID:56715-1701882900-1701885300@www.mccabechurch.com
SUMMARY:Mid-Week Meal
DESCRIPTION:
URL:https://www.mccabechurch.com/event/mid-week-meal-13/
LOCATION:Main Building: The Great Hall\, Great Hall Kitchen
END:VEVENT
BEGIN:VEVENT
DTSTART;TZID=America/Chicago:20231206T173000
DTEND;TZID=America/Chicago:20231206T183000
DTSTAMP:20260419T072156
CREATED:20230908T193413Z
LAST-MODIFIED:20230908T193413Z
UID:56716-1701883800-1701887400@www.mccabechurch.com
SUMMARY:Adult Handbell Choir Practice
DESCRIPTION:
URL:https://www.mccabechurch.com/event/adult-handbell-choir-practice-13/
LOCATION:Main Building: Bell Room
END:VEVENT
BEGIN:VEVENT
DTSTART;TZID=America/Chicago:20231206T175500
DTEND;TZID=America/Chicago:20231206T181500
DTSTAMP:20260419T072156
CREATED:20230908T193413Z
LAST-MODIFIED:20230908T193413Z
UID:56717-1701885300-1701886500@www.mccabechurch.com
SUMMARY:High Five Worship
DESCRIPTION:
URL:https://www.mccabechurch.com/event/high-five-worship-13/
END:VEVENT
BEGIN:VEVENT
DTSTART;TZID=America/Chicago:20231206T181500
DTEND;TZID=America/Chicago:20231206T191500
DTSTAMP:20260419T072156
CREATED:20231119T145219Z
LAST-MODIFIED:20231119T145219Z
UID:57193-1701886500-1701890100@www.mccabechurch.com
SUMMARY:Small Groups
DESCRIPTION:PreK- 5th Groups\nBible Study
URL:https://www.mccabechurch.com/event/small-groups-2/
END:VEVENT
BEGIN:VEVENT
DTSTART;TZID=America/Chicago:20231206T190000
DTEND;TZID=America/Chicago:20231206T200000
DTSTAMP:20260419T072156
CREATED:20230908T193414Z
LAST-MODIFIED:20230908T193414Z
UID:56718-1701889200-1701892800@www.mccabechurch.com
SUMMARY:Choir Practice
DESCRIPTION:
URL:https://www.mccabechurch.com/event/choir-practice-38/
LOCATION:Main Building: Choir Room
END:VEVENT
BEGIN:VEVENT
DTSTART;TZID=America/Chicago:20231206T193000
DTEND;TZID=America/Chicago:20231206T203000
DTSTAMP:20260419T072156
CREATED:20231119T145219Z
LAST-MODIFIED:20231119T145219Z
UID:57194-1701891000-1701894600@www.mccabechurch.com
SUMMARY:Choir Practice
DESCRIPTION:
URL:https://www.mccabechurch.com/event/choir-practice-44/
LOCATION:Main Building: Choir Room
END:VEVENT
END:VCALENDAR