BEGIN:VCALENDAR
VERSION:2.0
PRODID:-//McCabe United Methodist Church - ECPv6.1.3//NONSGML v1.0//EN
CALSCALE:GREGORIAN
METHOD:PUBLISH
X-WR-CALNAME:McCabe United Methodist Church
X-ORIGINAL-URL:https://www.mccabechurch.com
X-WR-CALDESC:Events for McCabe United Methodist Church
REFRESH-INTERVAL;VALUE=DURATION:PT1H
X-Robots-Tag:noindex
X-PUBLISHED-TTL:PT1H
BEGIN:VTIMEZONE
TZID:America/Chicago
BEGIN:DAYLIGHT
TZOFFSETFROM:-0600
TZOFFSETTO:-0500
TZNAME:CDT
DTSTART:20230312T080000
END:DAYLIGHT
BEGIN:STANDARD
TZOFFSETFROM:-0500
TZOFFSETTO:-0600
TZNAME:CST
DTSTART:20231105T070000
END:STANDARD
END:VTIMEZONE
BEGIN:VEVENT
DTSTART;TZID=America/Chicago:20230817T180000
DTEND;TZID=America/Chicago:20230817T203000
DTSTAMP:20260419T170436
CREATED:20230717T184958Z
LAST-MODIFIED:20230717T185408Z
UID:55068-1692295200-1692304200@www.mccabechurch.com
SUMMARY:Vacation Bible School 2023: Hero Hotline (McCabe Family)
DESCRIPTION:Join us for us 2023 VBS\, Hero Hotline!  \nThere are many opportunities to lead\, serve\, pray\, and donate.  \nFor more information\, see the display in the Great Hall or contact Carrie Gilkerson.  \nLet’s work together to help kids in our church and wider community learn to follow Jesus\, help others\, work together\, and show grace!
URL:https://www.mccabechurch.com/event/vacation-bible-school-2023-hero-hotline-4/
LOCATION:McCabe Church\, 1030 North 6th Street\, Bismarck\, ND\, 58501\, United States
END:VEVENT
END:VCALENDAR